Workbook
Name _ftnref3: TITELBLAD!$A$93
Name B2020_ODV_TRHS: ASSUMPTIES!$E$37
Name B2020_TOE_TRHS: ASSUMPTIES!$E$38
Name BEGINJAAR: TITELBLAD!$I$9
Name CPI_2020: ASSUMPTIES!$E$32
Name CPI_JAARMIN1: ASSUMPTIES!$E$31
Name DIM_OMV: ASSUMPTIES!$E$48
Name DNB: TITELBLAD!$F$6
Name DNB: TITELBLAD!$F$6
Name DNB: TITELBLAD!$F$6
Name EINDJAAR: TITELBLAD!$I$10
Name FACTOR_DOORVOER: ASSUMPTIES!$E$54
Name FACTOR_MP_TV: ASSUMPTIES!$E$13
Name FACTOR_OST: ASSUMPTIES!$E$15
Name FACTOR_VAST: ASSUMPTIES!$E$21
Name JAAR: TITELBLAD!$I$12
Name JAAR: TITELBLAD!$I$12
Name JAAR: TITELBLAD!$I$12
Name Keuze_Kostenindeling1: 'T2'!$C$8:$C$9
Name Keuze_Kostenindeling2: 'T2'!$D$8:$D$62
Name Keuze_Kostenindeling3: 'T2'!$E$8:$E$9
Name Keuze_Kostenindeling4: 'T2'!$F$8:$F$9
Name Keuze_Subactiviteit: 'T2'!$A$8:$A$9
Name Keuze_TariefcomponentN: 'T2'!$B$8:$B$15
Name KORTING_XN: ASSUMPTIES!$E$40
Name MAXTOENAME_TRHS: ASSUMPTIES!$E$36
Name OMVORMERVERMOGEN: ASSUMPTIES!$E$47
Name ONDERNEMINGSNUMMER: TITELBLAD!$F$7
Name PROCENT_GEMMP: ASSUMPTIES!$E$18
Name PROCENT_KWH: ASSUMPTIES!$E$19
Name PROCENT_MP: ASSUMPTIES!$E$12
Name PROCENT_TV: ASSUMPTIES!$E$11
Name PROCENT_VERHOGING_NA_MAX: MAXIMUM!$G$34
Name TAR_DATA_LSMR1_2021: ASSUMPTIES!$E$28
Name TAR_DATA_LSMR3_2021: ASSUMPTIES!$E$27
Name TAR_DATA_NIETLS_2021: ASSUMPTIES!$E$26
Name TAR_DATA_PROD_2021: ASSUMPTIES!$E$29
Name TAR_ODV_GSC: ASSUMPTIES!#REF!
Name TAR_ODV_HEWKK: ASSUMPTIES!#REF!
Name TAR_ODV_REG: ASSUMPTIES!#REF!
Name TAR_ODV_RESERVE: ASSUMPTIES!#REF!
Name TAR_ODV_WIND: ASSUMPTIES!#REF!
Name TAR_TOE_MASTEN: ASSUMPTIES!#REF!
Name VOLLASTUREN: ASSUMPTIES!$E$49
Name ZELFCONSUMPTIE: ASSUMPTIES!$E$50

Sheet TITELBLAD
A1: v5
A2: TARIEFVOORSTEL PERIODIEKE DISTRIBUTIENETTARIEVEN
B6: DISTRIBUTIENETBEHEERDER : | F6: Naam distributienetbeheerder
B7: ONDERNEMINGSNUMMER:
B9: In het kader van volgende reguleringsperiode: | H9: van | I9: 2021
H10: tot en met | I10: 2024
B12: Periodieke distributienettarieven voor het jaar:
A16: RICHTLIJNEN BIJ HET INVULLEN EN DE INTERPRETATIE VAN HET RAPPORTERINGSMODEL
A18: Dit rapporteringsmodel heeft als doel om de distributienetbeheerder op gestandaardiseerde wijze aan de VREG te laten rapporteren over het tariefvoorstel dat de distributienetbeheerder op basis van het door de VREG toegelaten inkomen voor de gereguleerde activiteiten 'Elektriciteit' en 'Aardgas' opmaakte. Dit rapporteringsmodel omvat enkele tabellen en bijkomend aan te leveren informatie die de vertaling van het toegelaten inkomen naar de periodieke distributienettarieven stapsgewijs en op een overzichtelijk manier weergeven. De VREG behoudt zich de mogelijkheid om, indien nodig, bijkomende informatie buiten dit rapporteringsmodel op te vragen. De distributienetbeheerder dient het tariefvoorstel onder de vorm van één afgedrukt exemplaar alsook onder elektronische vorm (Excel-formaat) aan te leveren. In de elektronische vorm zijn geen verwijzingen naar externe bestanden (koppelingen) toegelaten.
A29: LEGENDE CELKLEUREN
D32: In te vullen door de distributienetbeheerder
D34: Berekende of overgenomen waarde waarvoor dus geen manuele input vereist is
D36: In te vullen door de VREG
D38: Cel die geen toepassing vindt onder de huidige tariefstructuur
A41: OVERZICHT TABELLEN
A43: ELEKTRICITEIT
A45: Assumpties
A46: Verdeelsleutels
A47: Rekenvolumes
A48: Maximum
A49: Max Afname TRHS
A50: Max Afname MS
A51: Max Afname TRLS
A52: Max Afname LS
A53: Max Injectie
A54: TABEL 1: Budget per tariefcomponent voor gereguleerde activiteit 'elektriciteit'
... A80: GAS Injectie

Sheet --> ELEKTRICITEIT

Sheet ASSUMPTIES
A1: ASSUMPTIES
C4: Distributienetbeheerder: | E4: =DNB -> Naam distributienetbeheerder
B7: Tarifaire bepalingen
B9: I. Met betrekking tot de tariefcomponent 'Netgebruik'
B11: Procentueel aandeel van kVATV in budget 'Netgebruik' (excl. kWMP-TV) | E11: 0.5 | G11: Deze bepaling geldt voor de afnameklanten op TRHS, >26-36kV, 26-1kV en TRLS.
B12: Procentueel aandeel van kWMP in budget 'Netgebruik' (excl. kWMP-TV) | E12: =1-$E$11 -> 0.5 | G12: Overeenkomstig paragraaf 11.5.3 punt 6 uit de tariefmethodologie 2021-2024.
B13: Aandeel van kWMP t.o.v. aandeel van kVATV in budget 'Netgebruik' (excl. kWMP-TV) | E13: =PROCENT_MP/PROCENT_TV -> 1 | K13: Zie de toelichting II hieronder.
B15: Tarief voor kWMP-TV t.o.v. tarief voor kVATV (beiden op maandbasis) | E15: 1.5 | G15: Deze bepaling geldt voor de afnameklanten op TRHS, >26-36kV, 26-1kV en TRLS.
G16: Overeenkomstig paragraaf 11.5.3 punt 10 uit de tariefmethodologie 2021-2024.
B18: Procentueel aandeel van kWgem MP in budget 'Netgebruik' | E18: 0.8 | G18: Deze bepaling geldt voor de afnameklanten op LS met piekmeting.
B19: Procentueel aandeel van kWhafn in budget 'Netgebruik' | E19: =1-$E$18 -> 0.2 | G19: Overeenkomstig paragraaf 11.5.3 punt 7 uit de tariefmethodologie 2021-2024.
B21: Tarief voor vastnet t.o.v. tarief voor kWgemMP | E21: 2.5 | G21: Deze bepaling geldt voor de afnameklanten op LS met klassieke meter.
G22: Overeenkomstig paragraaf 11.5.3 punt 8 uit de tariefmethodologie 2021-2024.
B24: II. Met betrekking tot de tariefcomponent 'Databeheer'
B26: Tarief voor hogere spanningsniveaus in 2021
B27: Tarief voor laagspanning met uitlezing van kwartiergegevens in 2021
B28: Tarief voor laagspanning met uitlezing op maand/jaarbasis in 2021
B29: Tarief voor productiemeters in 2021
B31: ="Consumptieprijsindex voor juli "&JAAR-1 -> Consumptieprijsindex voor juli -1 | G31: Overeenkomstig paragraaf 11.5.3 punt 15 uit de tariefmethodologie 2021-2024.
B32: Consumptieprijsindex voor juli 2020
B34: III. Met betrekking tot de tariefcomponenten 'Openbaredienstverplichtingen' en 'Toeslagen'
B36: Maximale toename t.o.v. budget in 2020 | E36: 0.3 | G36: Deze bepaling geldt voor de afnameklanten op TRHS.
B37: Budget 'ODV' in 2020 toegewezen aan afnameklanten op TRHS | G37: Overeenkomstig paragraaf 11.5.3 punt 4 uit de tariefmethodologie 2021-2024.
B38: Budget 'Toeslagen' in 2020 toegewezen aan afnameklanten op TRHS
B40: Korting op ODV-tarief voor exclusief nacht : | E40: =IF(JAAR=2022,60%,IF(JAAR=2023,50%,IF(JAAR=2024,40%,"FOUT"))) -> FOUT | G40: Overeenkomstig paragraaf 11.5.3 punt 13 uit de tariefmethodologie 2021-2024.
G41: * Correctie van een materiële vergissing
B42: IV. Met betrekking tot de tariefcomponent 'Overige transmissienetkosten'
B45: V. Met betrekking tot het aanvullende capaciteitstarief voor prosumenten met terugdraaiende teller
B47: Gemiddeld omvormervermogen | G47: Deze bepaling geldt voor de prosumenten met een terugdraaiende teller op LS.
B48: Dimensionering van omvormer- t.o.v. piekvermogen | E48: 0.9 | G48: Overeenkomstig paragraaf 10.2.2.1.1 uit de tariefmethodologie 2021-2024.
B49: Vollasturen / benuttiging | E49: 950
B50: Zelfconsumptie | E50: 0.36
B52: VI. Met betrekking tot de doorvoertarieven
B54: Factor inzake doorvoertarieven | E54: 0.75 | G54: Overeenkomstig paragraaf 11.5.3 punt 14 uit de tariefmethodologie 2021-2024.
B58: Bijkomende toelichting
B60: I. Gelijkgestelde of één-op-één gerelateerde tarieven
B62: De klantengroepen waarvoor dezelfde of één-op-één gerelateerde tarieven gelden (zie paragraaf 11.5.3 punt 1, 5, 12 en 14), worden in de volgende tabbladen als één gezamenlijke groep behandelt.
B64: Afnameklanten op TRHS | E64: Afnameklanten op TRHS (∑)
B65: Afnameklanten op >26-36 kV met AV ≥ 5MVA
B67: Afnameklanten op >26-36 kV met AV < 5MVA | E67: Afnameklanten op MS (∑)
...

Sheet VERDEELSLEUTELS
A1: VERDEELSLEUTELS
B4: Distributienetbeheerder: | D4: =DNB -> Naam distributienetbeheerder
C7: Energierichting | E7: Absolute waarde | G7: Relatief aandeel
A8: Verdeelsleutel | B8: Eenheid | C8: Afname (x) | D8: Injectie (x) | E8: Afname (#) | F8: Injectie (#) | G8: Afname (%) | H8: Injectie (%)
A9: CAPEX | B9: EUR | C9: x | D9: x | G9: =IF(ISNUMBER($E9),$E9/SUM($E9:$F9),"") | H9: =IF(ISNUMBER($F9),$F9/SUM($E9:$F9),"")
A10: kWh | B10: kWh | C10: x | D10: x | E10: ='REKENVOLUMES'!$D$28-(1-FACTOR_DOORVOER)*('REKENVOLUMES'!$K$28+'REKENVOLUMES'!$P$28+'REKENVOLUMES'!$R$28) -> 0 | F10: =INDEX(Rekenvolumes[Injectieklanten (∑)],15) -> 0 | G10: =IF(ISNUMBER($E10),$E10/SUM($E10:$F10),"") -> #DIV/0! | H10: =IF(ISNUMBER($F10),$F10/SUM($E10:$F10),"") -> #DIV/0!
A11: Enkel_Afname | C11: x | E11: 1 | F11: 0 | G11: =IF(ISNUMBER($E11),$E11/SUM($E11:$F11),"") -> 1 | H11: =IF(ISNUMBER($F11),$F11/SUM($E11:$F11),"") -> 0
A12: Databeheer | C12: x | D12: x | G12: =IF(ISNUMBER($E12),$E12/SUM($E12:$F12),"") | H12: =IF(ISNUMBER($F12),$F12/SUM($E12:$F12),"")
G13: =IF(ISNUMBER($E13),$E13/SUM($E13:$F13),"") | H13: =IF(ISNUMBER($F13),$F13/SUM($E13:$F13),"")
G14: =IF(ISNUMBER($E14),$E14/SUM($E14:$F14),"") | H14: =IF(ISNUMBER($F14),$F14/SUM($E14:$F14),"")
G15: =IF(ISNUMBER($E15),$E15/SUM($E15:$F15),"") | H15: =IF(ISNUMBER($F15),$F15/SUM($E15:$F15),"")
C19: Spanningsniveau | G19: Absolute waarde | K19: Relatief aandeel
A20: Verdeelsleutel | B20: Eenheid | C20: TRHS (x) | D20: MS (x) | E20: TRLS (x) | F20: LS (x) | G20: TRHS (#) | H20: MS (#) | I20: TRLS (#) | J20: LS (#) | K20: TRHS (%) | L20: MS (%) | M20: TRLS (%) | N20: LS (%)
A21: SynchronePiek_TRHS | B21: kW | C21: x | D21: x | E21: x | F21: x | K21: =IF(ISNUMBER($G21),$G21/SUM($G21:$J21),"") | L21: =IF(ISNUMBER($H21),$H21/SUM($G21:$J21),"") | M21: =IF(ISNUMBER($I21),$I21/SUM($G21:$J21),"") | N21: =IF(ISNUMBER($J21),$J21/SUM($G21:$J21),"")
A22: SynchronePiek_MS | B22: kW | D22: x | E22: x | F22: x | G22: 0 | K22: =IF(ISNUMBER($G22),$G22/SUM($G22:$J22),"") -> #DIV/0! | L22: =IF(ISNUMBER($H22),$H22/SUM($G22:$J22),"") | M22: =IF(ISNUMBER($I22),$I22/SUM($G22:$J22),"") | N22: =IF(ISNUMBER($J22),$J22/SUM($G22:$J22),"")
A23: SynchronePiek_TRLS | B23: kW | E23: x | F23: x | G23: 0 | H23: 0 | K23: =IF(ISNUMBER($G23),$G23/SUM($G23:$J23),"") -> #DIV/0! | L23: =IF(ISNUMBER($H23),$H23/SUM($G23:$J23),"") -> #DIV/0! | M23: =IF(ISNUMBER($I23),$I23/SUM($G23:$J23),"") | N23: =IF(ISNUMBER($J23),$J23/SUM($G23:$J23),"")
A24: SynchronePiek_LS | B24: kW | F24: x | G24: 0 | H24: 0 | I24: 0 | K24: =IF(ISNUMBER($G24),$G24/SUM($G24:$J24),"") -> #DIV/0! | L24: =IF(ISNUMBER($H24),$H24/SUM($G24:$J24),"") -> #DIV/0! | M24: =IF(ISNUMBER($I24),$I24/SUM($G24:$J24),"") -> #DIV/0! | N24: =IF(ISNUMBER($J24),$J24/SUM($G24:$J24),"")
A25: kWh | B25: kWh | C25: x | D25: x | E25: x | F25: x | G25: ='REKENVOLUMES'!$E$28 -> 0 | H25: ='REKENVOLUMES'!$H$28-(1-FACTOR_DOORVOER)*'REKENVOLUMES'!$K$28 -> 0 | I25: ='REKENVOLUMES'!$L$28 -> 0 | J25: ='REKENVOLUMES'!$N$28-(1-FACTOR_DOORVOER)*('REKENVOLUMES'!$P$28+'REKENVOLUMES'!$R$28) -> 0 | K25: =IF(ISNUMBER($G25),$G25/SUM($G25:$J25),"") -> #DIV/0! | L25: =IF(ISNUMBER($H25),$H25/SUM($G25:$J25),"") -> #DIV/0! | M25: =IF(ISNUMBER($I25),$I25/SUM($G25:$J25),"") -> #DIV/0! | N25: =IF(ISNUMBER($J25),$J25/SUM($G25:$J25),"") -> #DIV/0!
A26: kWh_zonder TRHS | B26: kWh | D26: x | E26: x | F26: x | G26: 0 | H26: ='REKENVOLUMES'!$H$28-(1-FACTOR_DOORVOER)*'REKENVOLUMES'!$K$28 -> 0 | I26: ='REKENVOLUMES'!$L$28 -> 0 | J26: ='REKENVOLUMES'!$N$28-(1-FACTOR_DOORVOER)*('REKENVOLUMES'!$P$28+'REKENVOLUMES'!$R$28) -> 0 | K26: =IF(ISNUMBER($G26),$G26/SUM($G26:$J26),"") -> #DIV/0! | L26: =IF(ISNUMBER($H26),$H26/SUM($G26:$J26),"") -> #DIV/0! | M26: =IF(ISNUMBER($I26),$I26/SUM($G26:$J26),"") -> #DIV/0! | N26: =IF(ISNUMBER($J26),$J26/SUM($G26:$J26),"") -> #DIV/0!
A27: EAN | C27: x | D27: x | E27: x | F27: x | G27: =INDEX(Rekenvolumes[Afnameklanten op TRHS (∑)],1) -> 0 | H27: =INDEX(Rekenvolumes[Afnameklanten op MS (∑)],1)-(1-FACTOR_DOORVOER)*INDEX(Rekenvolumes[Doorvoer op 26-1kV],1) -> 0 | I27: =INDEX(Rekenvolumes[Afnameklanten op TRLS (∑)],1) -> 0 | J27: =INDEX(Rekenvolumes[Afnameklanten op LS (∑)],1)-(1-FACTOR_DOORVOER)*(INDEX(Rekenvolumes[Doorvoer op LS met piekmeting],1)+INDEX(Rekenvolumes[Doorvoer op LS zonder piekmeting],1)) -> 0 | K27: =IF(ISNUMBER($G27),$G27/SUM($G27:$J27),"") -> #DIV/0! | L27: =IF(ISNUMBER($H27),$H27/SUM($G27:$J27),"") -> #DIV/0! | M27: =IF(ISNUMBER($I27),$I27/SUM($G27:$J27),"") -> #DIV/0! | N27: =IF(ISNUMBER($J27),$J27/SUM($G27:$J27),"") -> #DIV/0!
A28: Afschrijvingen | B28: EUR | C28: x | D28: x | E28: x | F28: x | G28: ='T2'!$M$90 -> #VALUE! | H28: ='T2'!$N$90 -> #VALUE! | I28: ='T2'!$O$90 -> #VALUE! | J28: ='T2'!$P$90 -> #VALUE! | K28: =IF(ISNUMBER($G28),$G28/SUM($G28:$J28),"") | L28: =IF(ISNUMBER($H28),$H28/SUM($G28:$J28),"") | M28: =IF(ISNUMBER($I28),$I28/SUM($G28:$J28),"") | N28: =IF(ISNUMBER($J28),$J28/SUM($G28:$J28),"")
A29: Netgebruik | B29: EUR | C29: x | D29: x | E29: x | F29: x | G29: ='T2'!$M$91 -> #VALUE! | H29: ='T2'!$N$91 -> #VALUE! | I29: ='T2'!$O$91 -> #VALUE! | J29: ='T2'!$P$91 -> #VALUE! | K29: =IF(ISNUMBER($G29),$G29/SUM($G29:$J29),"") | L29: =IF(ISNUMBER($H29),$H29/SUM($G29:$J29),"") | M29: =IF(ISNUMBER($I29),$I29/SUM($G29:$J29),"") | N29: =IF(ISNUMBER($J29),$J29/SUM($G29:$J29),"")
A30: ODV | B30: EUR | C30: x | D30: x | E30: x | F30: x | G30: ='T2'!$M$94 -> #VALUE! | H30: ='T2'!$N$94 -> #VALUE! | I30: ='T2'!$O$94 -> #VALUE! | J30: ='T2'!$P$94 -> #VALUE! | K30: =IF(ISNUMBER($G30),$G30/SUM($G30:$J30),"") | L30: =IF(ISNUMBER($H30),$H30/SUM($G30:$J30),"") | M30: =IF(ISNUMBER($I30),$I30/SUM($G30:$J30),"") | N30: =IF(ISNUMBER($J30),$J30/SUM($G30:$J30),"")
A31: Saldi | B31: EUR | C31: x | D31: x | E31: x | F31: x | G31: ='T2'!$M$92 -> #VALUE! | H31: ='T2'!$N$92 -> #VALUE! | I31: ='T2'!$O$92 -> #VALUE! | J31: ='T2'!$P$92 -> #VALUE! | K31: =IF(ISNUMBER($G31),$G31/SUM($G31:$J31),"") | L31: =IF(ISNUMBER($H31),$H31/SUM($G31:$J31),"") | M31: =IF(ISNUMBER($I31),$I31/SUM($G31:$J31),"") | N31: =IF(ISNUMBER($J31),$J31/SUM($G31:$J31),"")
A32: Direct_TRHS | C32: x | G32: 1 | H32: 0 | I32: 0 | J32: 0 | K32: =IF(ISNUMBER($G32),$G32/SUM($G32:$J32),"") -> 1 | L32: =IF(ISNUMBER($H32),$H32/SUM($G32:$J32),"") -> 0 | M32: =IF(ISNUMBER($I32),$I32/SUM($G32:$J32),"") -> 0 | N32: =IF(ISNUMBER($J32),$J32/SUM($G32:$J32),"") -> 0
A33: Direct_MS | D33: x | G33: 0 | H33: 1 | I33: 0 | J33: 0 | K33: =IF(ISNUMBER($G33),$G33/SUM($G33:$J33),"") -> 0 | L33: =IF(ISNUMBER($H33),$H33/SUM($G33:$J33),"") -> 1 | M33: =IF(ISNUMBER($I33),$I33/SUM($G33:$J33),"") -> 0 | N33: =IF(ISNUMBER($J33),$J33/SUM($G33:$J33),"") -> 0
A34: Direct_TRLS | E34: x | G34: 0 | H34: 0 | I34: 1 | J34: 0 | K34: =IF(ISNUMBER($G34),$G34/SUM($G34:$J34),"") -> 0 | L34: =IF(ISNUMBER($H34),$H34/SUM($G34:$J34),"") -> 0 | M34: =IF(ISNUMBER($I34),$I34/SUM($G34:$J34),"") -> 1 | N34: =IF(ISNUMBER($J34),$J34/SUM($G34:$J34),"") -> 0
A35: Direct_LS | F35: x | G35: 0 | H35: 0 | I35: 0 | J35: 1 | K35: =IF(ISNUMBER($G35),$G35/SUM($G35:$J35),"") -> 0 | L35: =IF(ISNUMBER($H35),$H35/SUM($G35:$J35),"") -> 0 | M35: =IF(ISNUMBER($I35),$I35/SUM($G35:$J35),"") -> 0 | N35: =IF(ISNUMBER($J35),$J35/SUM($G35:$J35),"") -> 1
A36: 75%EAN+25%kWh_ODV | B36: % | C36: x | D36: x | E36: x | F36: x | G36: =75%*$K$27+25%*$K$25 -> #DIV/0! | H36: =75%*$L$27+25%*$L$25 -> #DIV/0! | I36: =75%*$M$27+25%*$M$25 -> #DIV/0! | J36: =75%*$N$27+25%*$N$25 -> #DIV/0! | K36: =IF(ISNUMBER($G36),MIN($G36/SUM($G36:$J36),(1+MAXTOENAME_TRHS)*B2020_ODV_TRHS/'T2'!$K$93),"") | L36: =IF(ISNUMBER($H36),(1-$K36)*$H36/SUM($H36:$J36),"") | M36: =IF(ISNUMBER($I36),(1-$K36)*$I36/SUM($H36:$J36),"") | N36: =IF(ISNUMBER($J36),(1-$K36)*$J36/SUM($H36:$J36),"")
A37: 75%EAN+25%kWh_TOE | B37: % | C37: x | D37: x | E37: x | F37: x | G37: =75%*$K$27+25%*$K$25 -> #DIV/0! | H37: =75%*$L$27+25%*$L$25 -> #DIV/0! | I37: =75%*$M$27+25%*$M$25 -> #DIV/0! | J37: =75%*$N$27+25%*$N$25 -> #DIV/0! | K37: =IF(ISNUMBER($G37),MIN($G37/SUM($G37:$J37),(1+MAXTOENAME_TRHS)*B2020_TOE_TRHS/'T2'!$K$95),"") | L37: =IF(ISNUMBER($H37),(1-$K37)*$H37/SUM($H37:$J37),"") | M37: =IF(ISNUMBER($I37),(1-$K37)*$I37/SUM($H37:$J37),"") | N37: =IF(ISNUMBER($J37),(1-$K37)*$J37/SUM($H37:$J37),"")
A38: Netverliezen | C38: x | D38: x | E38: x | F38: x | K38: =IF(ISNUMBER($G38),$G38/SUM($G38:$J38),"") | L38: =IF(ISNUMBER($H38),$H38/SUM($G38:$J38),"") | M38: =IF(ISNUMBER($I38),$I38/SUM($G38:$J38),"") | N38: =IF(ISNUMBER($J38),$J38/SUM($G38:$J38),"")
A39: ReactieveEnergie | C39: x | D39: x | E39: x | J39: 0 | K39: =IF(ISNUMBER($G39),$G39/SUM($G39:$J39),"") | L39: =IF(ISNUMBER($H39),$H39/SUM($G39:$J39),"") | M39: =IF(ISNUMBER($I39),$I39/SUM($G39:$J39),"") | N39: =IF(ISNUMBER($J39),$J39/SUM($G39:$J39),"") -> #DIV/0!
A40: Databeheer | C40: x | D40: x | E40: x | F40: x | K40: =IF(ISNUMBER($G40),$G40/SUM($G40:$J40),"") | L40: =IF(ISNUMBER($H40),$H40/SUM($G40:$J40),"") | M40: =IF(ISNUMBER($I40),$I40/SUM($G40:$J40),"") | N40: =IF(ISNUMBER($J40),$J40/SUM($G40:$J40),"")
K41: =IF(ISNUMBER($G41),$G41/SUM($G41:$J41),"") | L41: =IF(ISNUMBER($H41),$H41/SUM($G41:$J41),"") | M41: =IF(ISNUMBER($I41),$I41/SUM($G41:$J41),"") | N41: =IF(ISNUMBER($J41),$J41/SUM($G41:$J41),"")
K42: =IF(ISNUMBER($G42),$G42/SUM($G42:$J42),"") | L42: =IF(ISNUMBER($H42),$H42/SUM($G42:$J42),"") | M42: =IF(ISNUMBER($I42),$I42/SUM($G42:$J42),"") | N42: =IF(ISNUMBER($J42),$J42/SUM($G42:$J42),"")
K43: =IF(ISNUMBER($G43),$G43/SUM($G43:$J43),"") | L43: =IF(ISNUMBER($H43),$H43/SUM($G43:$J43),"") | M43: =IF(ISNUMBER($I43),$I43/SUM($G43:$J43),"") | N43: =IF(ISNUMBER($J43),$J43/SUM($G43:$J43),"")
C47: Klantengroep | E47: Absolute waarde | G47: Relatief aandeel
A48: Verdeelsleutel | B48: Eenheid | C48: Afnameklanten op LS met piekmeting (x) | D48: Afnameklanten met KM/TT (x) | E48: Afnameklanten op LS met piekmeting (#) | F48: Afnameklanten met KM/TT (#) | G48: Afnameklanten op LS met piekmeting (%) | H48: Afnameklanten met KM/TT (%)
A49: kWgemMP | B49: kW | C49: x | D49: x | E49: =INDEX(Rekenvolumes[Afnameklanten op LS met piekmeting],11)+FACTOR_DOORVOER*INDEX(Rekenvolumes[Doorvoer op LS met piekmeting],11) -> 0 | F49: =INDEX(Rekenvolumes[Afnameklanten op LS met klassieke meter],11)+FACTOR_DOORVOER*INDEX(Rekenvolumes[Doorvoer op LS zonder piekmeting],11)+INDEX(Rekenvolumes[Prosumenten met terugdraaiende teller op LS],11) -> 0 | G49: =IF(ISNUMBER($E49),$E49/SUM($E49:$F49),"") -> #DIV/0! | H49: =IF(ISNUMBER($F49),$F49/SUM($E49:$F49),"") -> #DIV/0!
A50: kWh | B50: kWh | C50: x | D50: x | E50: ='REKENVOLUMES'!$O$28+FACTOR_DOORVOER*'REKENVOLUMES'!$P$28 -> 0 | F50: ='REKENVOLUMES'!$Q$28+FACTOR_DOORVOER*'REKENVOLUMES'!$R$28+'REKENVOLUMES'!$S$28 -> 0 | G50: =IF(ISNUMBER($E50),$E50/SUM($E50:$F50),"") -> #DIV/0! | H50: =IF(ISNUMBER($F50),$F50/SUM($E50:$F50),"") -> #DIV/0!
...

Sheet REKENVOLUMES
A1: REKENVOLUMES
B4: Distributienetbeheerder: | D4: =DNB -> Naam distributienetbeheerder
A7: Rekenvolume | C7: Totaal rekenvolume | D7: Afnameklanten (∑) | E7: Afnameklanten op TRHS (∑) | F7: Afnameklanten op TRHS | G7: Afnameklanten op >26-36 kV met AV ≥ 5MVA | H7: Afnameklanten op MS (∑) | I7: Afnameklanten op >26-36 kV met AV < 5MVA | J7: Afnameklanten op 26-1kV | K7: Doorvoer op 26-1kV | L7: Afnameklanten op TRLS (∑) | M7: Afnameklanten op TRLS | N7: Afnameklanten op LS (∑) | O7: Afnameklanten op LS met piekmeting | P7: Doorvoer op LS met piekmeting | Q7: Afnameklanten op LS met klassieke meter | R7: Doorvoer op LS zonder piekmeting | S7: Prosumenten met terugdraaiende teller op LS | T7: Injectieklanten (∑) | U7: Injectieklanten op TRHS | V7: Injectieklanten op >26-36kV | W7: Injectieklanten op 26-1kV | X7: Injectieklanten op TRLS | Y7: Injectieklanten op LS
A8: EAN | B8: 1 | C8: =SUM(Rekenvolumes[[#This Row],[Afnameklanten (∑)]],Rekenvolumes[[#This Row],[Injectieklanten (∑)]]) -> 0 | D8: =SUM(Rekenvolumes[[#This Row],[Afnameklanten op TRHS (∑)]],Rekenvolumes[[#This Row],[Afnameklanten op MS (∑)]],Rekenvolumes[[#This Row],[Afnameklanten op TRLS (∑)]],Rekenvolumes[[#This Row],[Afnameklanten op LS (∑)]]) -> 0 | E8: =SUM(Rekenvolumes[[#This Row],[Afnameklanten op TRHS]:[Afnameklanten op >26-36 kV met AV ≥ 5MVA]]) -> 0 | H8: =SUM(Rekenvolumes[[#This Row],[Afnameklanten op >26-36 kV met AV < 5MVA]:[Doorvoer op 26-1kV]]) -> 0 | L8: =SUM(Rekenvolumes[[#This Row],[Afnameklanten op TRLS]]) -> 0 | N8: =SUM(Rekenvolumes[[#This Row],[Afnameklanten op LS met piekmeting]:[Prosumenten met terugdraaiende teller op LS]]) -> 0
A9: AMR | B9: 2 | C9: =SUM(Rekenvolumes[[#This Row],[Afnameklanten (∑)]],Rekenvolumes[[#This Row],[Injectieklanten (∑)]]) -> 0 | D9: =SUM(Rekenvolumes[[#This Row],[Afnameklanten op TRHS (∑)]],Rekenvolumes[[#This Row],[Afnameklanten op MS (∑)]],Rekenvolumes[[#This Row],[Afnameklanten op TRLS (∑)]],Rekenvolumes[[#This Row],[Afnameklanten op LS (∑)]]) -> 0 | E9: =SUM(Rekenvolumes[[#This Row],[Afnameklanten op TRHS]:[Afnameklanten op >26-36 kV met AV ≥ 5MVA]]) -> 0 | H9: =SUM(Rekenvolumes[[#This Row],[Afnameklanten op >26-36 kV met AV < 5MVA]:[Doorvoer op 26-1kV]]) -> 0 | L9: =SUM(Rekenvolumes[[#This Row],[Afnameklanten op TRLS]]) -> 0 | N9: =SUM(Rekenvolumes[[#This Row],[Afnameklanten op LS met piekmeting]:[Prosumenten met terugdraaiende teller op LS]]) -> 0
A10: MMR | B10: 3 | C10: =SUM(Rekenvolumes[[#This Row],[Afnameklanten (∑)]],Rekenvolumes[[#This Row],[Injectieklanten (∑)]]) -> 0 | D10: =SUM(Rekenvolumes[[#This Row],[Afnameklanten op TRHS (∑)]],Rekenvolumes[[#This Row],[Afnameklanten op MS (∑)]],Rekenvolumes[[#This Row],[Afnameklanten op TRLS (∑)]],Rekenvolumes[[#This Row],[Afnameklanten op LS (∑)]]) -> 0 | E10: =SUM(Rekenvolumes[[#This Row],[Afnameklanten op TRHS]:[Afnameklanten op >26-36 kV met AV ≥ 5MVA]]) -> 0 | H10: =SUM(Rekenvolumes[[#This Row],[Afnameklanten op >26-36 kV met AV < 5MVA]:[Doorvoer op 26-1kV]]) -> 0 | L10: =SUM(Rekenvolumes[[#This Row],[Afnameklanten op TRLS]]) -> 0 | N10: =SUM(Rekenvolumes[[#This Row],[Afnameklanten op LS met piekmeting]:[Prosumenten met terugdraaiende teller op LS]]) -> 0
A11: DM - MR1 | B11: 4 | C11: =SUM(Rekenvolumes[[#This Row],[Afnameklanten (∑)]],Rekenvolumes[[#This Row],[Injectieklanten (∑)]]) -> 0 | D11: =SUM(Rekenvolumes[[#This Row],[Afnameklanten op TRHS (∑)]],Rekenvolumes[[#This Row],[Afnameklanten op MS (∑)]],Rekenvolumes[[#This Row],[Afnameklanten op TRLS (∑)]],Rekenvolumes[[#This Row],[Afnameklanten op LS (∑)]]) -> 0 | N11: =SUM(Rekenvolumes[[#This Row],[Afnameklanten op LS met piekmeting]:[Prosumenten met terugdraaiende teller op LS]]) -> 0
A12: DM - MR3 | B12: 5 | C12: =SUM(Rekenvolumes[[#This Row],[Afnameklanten (∑)]],Rekenvolumes[[#This Row],[Injectieklanten (∑)]]) -> 0 | D12: =SUM(Rekenvolumes[[#This Row],[Afnameklanten op TRHS (∑)]],Rekenvolumes[[#This Row],[Afnameklanten op MS (∑)]],Rekenvolumes[[#This Row],[Afnameklanten op TRLS (∑)]],Rekenvolumes[[#This Row],[Afnameklanten op LS (∑)]]) -> 0 | N12: =SUM(Rekenvolumes[[#This Row],[Afnameklanten op LS met piekmeting]:[Prosumenten met terugdraaiende teller op LS]]) -> 0
A13: KM | B13: 6 | C13: =SUM(Rekenvolumes[[#This Row],[Afnameklanten (∑)]],Rekenvolumes[[#This Row],[Injectieklanten (∑)]]) -> 0 | D13: =SUM(Rekenvolumes[[#This Row],[Afnameklanten op TRHS (∑)]],Rekenvolumes[[#This Row],[Afnameklanten op MS (∑)]],Rekenvolumes[[#This Row],[Afnameklanten op TRLS (∑)]],Rekenvolumes[[#This Row],[Afnameklanten op LS (∑)]]) -> 0 | N13: =SUM(Rekenvolumes[[#This Row],[Afnameklanten op LS met piekmeting]:[Prosumenten met terugdraaiende teller op LS]]) -> 0
A14: Productiemeters | B14: 7 | C14: =SUM(Rekenvolumes[[#This Row],[Afnameklanten (∑)]],Rekenvolumes[[#This Row],[Injectieklanten (∑)]]) -> 0 | D14: =SUM(Rekenvolumes[[#This Row],[Afnameklanten op TRHS (∑)]],Rekenvolumes[[#This Row],[Afnameklanten op MS (∑)]],Rekenvolumes[[#This Row],[Afnameklanten op TRLS (∑)]],Rekenvolumes[[#This Row],[Afnameklanten op LS (∑)]]) -> 0 | T14: =SUM(Rekenvolumes[[#This Row],[Injectieklanten op TRHS]:[Injectieklanten op LS]]) -> 0
A15: kVATV | B15: 8 | C15: =SUM(Rekenvolumes[[#This Row],[Afnameklanten (∑)]],Rekenvolumes[[#This Row],[Injectieklanten (∑)]]) -> 0 | D15: =SUM(Rekenvolumes[[#This Row],[Afnameklanten op TRHS (∑)]],Rekenvolumes[[#This Row],[Afnameklanten op MS (∑)]],Rekenvolumes[[#This Row],[Afnameklanten op TRLS (∑)]],Rekenvolumes[[#This Row],[Afnameklanten op LS (∑)]]) -> 0 | E15: =SUM(Rekenvolumes[[#This Row],[Afnameklanten op TRHS]:[Afnameklanten op >26-36 kV met AV ≥ 5MVA]]) -> 0 | H15: =SUM(Rekenvolumes[[#This Row],[Afnameklanten op >26-36 kV met AV < 5MVA]:[Doorvoer op 26-1kV]]) -> 0 | L15: =SUM(Rekenvolumes[[#This Row],[Afnameklanten op TRLS]]) -> 0
A16: kWMP | B16: 9 | C16: =SUM(Rekenvolumes[[#This Row],[Afnameklanten (∑)]],Rekenvolumes[[#This Row],[Injectieklanten (∑)]]) -> 0 | D16: =SUM(Rekenvolumes[[#This Row],[Afnameklanten op TRHS (∑)]],Rekenvolumes[[#This Row],[Afnameklanten op MS (∑)]],Rekenvolumes[[#This Row],[Afnameklanten op TRLS (∑)]],Rekenvolumes[[#This Row],[Afnameklanten op LS (∑)]]) -> 0 | E16: =SUM(Rekenvolumes[[#This Row],[Afnameklanten op TRHS]:[Afnameklanten op >26-36 kV met AV ≥ 5MVA]]) -> 0 | H16: =SUM(Rekenvolumes[[#This Row],[Afnameklanten op >26-36 kV met AV < 5MVA]:[Doorvoer op 26-1kV]]) -> 0 | L16: =SUM(Rekenvolumes[[#This Row],[Afnameklanten op TRLS]]) -> 0
A17: kWMP-TV | B17: 10 | C17: =SUM(Rekenvolumes[[#This Row],[Afnameklanten (∑)]],Rekenvolumes[[#This Row],[Injectieklanten (∑)]]) -> 0 | D17: =SUM(Rekenvolumes[[#This Row],[Afnameklanten op TRHS (∑)]],Rekenvolumes[[#This Row],[Afnameklanten op MS (∑)]],Rekenvolumes[[#This Row],[Afnameklanten op TRLS (∑)]],Rekenvolumes[[#This Row],[Afnameklanten op LS (∑)]]) -> 0 | E17: =SUM(Rekenvolumes[[#This Row],[Afnameklanten op TRHS]:[Afnameklanten op >26-36 kV met AV ≥ 5MVA]]) -> 0 | H17: =SUM(Rekenvolumes[[#This Row],[Afnameklanten op >26-36 kV met AV < 5MVA]:[Doorvoer op 26-1kV]]) -> 0 | L17: =SUM(Rekenvolumes[[#This Row],[Afnameklanten op TRLS]]) -> 0
A18: kWgemMP | B18: 11 | C18: =SUM(Rekenvolumes[[#This Row],[Afnameklanten (∑)]],Rekenvolumes[[#This Row],[Injectieklanten (∑)]]) -> 0 | D18: =SUM(Rekenvolumes[[#This Row],[Afnameklanten op TRHS (∑)]],Rekenvolumes[[#This Row],[Afnameklanten op MS (∑)]],Rekenvolumes[[#This Row],[Afnameklanten op TRLS (∑)]],Rekenvolumes[[#This Row],[Afnameklanten op LS (∑)]]) -> 0 | N18: =SUM(Rekenvolumes[[#This Row],[Afnameklanten op LS met piekmeting]:[Prosumenten met terugdraaiende teller op LS]]) -> 0
A19: kWhafn - NU | B19: 12 | C19: =SUM(Rekenvolumes[[#This Row],[Afnameklanten (∑)]],Rekenvolumes[[#This Row],[Injectieklanten (∑)]]) -> 0 | D19: =SUM(Rekenvolumes[[#This Row],[Afnameklanten op TRHS (∑)]],Rekenvolumes[[#This Row],[Afnameklanten op MS (∑)]],Rekenvolumes[[#This Row],[Afnameklanten op TRLS (∑)]],Rekenvolumes[[#This Row],[Afnameklanten op LS (∑)]]) -> 0 | E19: =SUM(Rekenvolumes[[#This Row],[Afnameklanten op TRHS]:[Afnameklanten op >26-36 kV met AV ≥ 5MVA]]) -> 0 | H19: =SUM(Rekenvolumes[[#This Row],[Afnameklanten op >26-36 kV met AV < 5MVA]:[Doorvoer op 26-1kV]]) -> 0 | L19: =SUM(Rekenvolumes[[#This Row],[Afnameklanten op TRLS]]) -> 0 | N19: =SUM(Rekenvolumes[[#This Row],[Afnameklanten op LS met piekmeting]:[Prosumenten met terugdraaiende teller op LS]]) -> 0 | S19: =$S$25/DIM_OMV*VOLLASTUREN*(1-ZELFCONSUMPTIE) -> 0
A20: kWhafn - SU | B20: 13 | C20: =SUM(Rekenvolumes[[#This Row],[Afnameklanten (∑)]],Rekenvolumes[[#This Row],[Injectieklanten (∑)]]) -> 0 | D20: =SUM(Rekenvolumes[[#This Row],[Afnameklanten op TRHS (∑)]],Rekenvolumes[[#This Row],[Afnameklanten op MS (∑)]],Rekenvolumes[[#This Row],[Afnameklanten op TRLS (∑)]],Rekenvolumes[[#This Row],[Afnameklanten op LS (∑)]]) -> 0 | E20: =SUM(Rekenvolumes[[#This Row],[Afnameklanten op TRHS]:[Afnameklanten op >26-36 kV met AV ≥ 5MVA]]) -> 0 | H20: =SUM(Rekenvolumes[[#This Row],[Afnameklanten op >26-36 kV met AV < 5MVA]:[Doorvoer op 26-1kV]]) -> 0 | L20: =SUM(Rekenvolumes[[#This Row],[Afnameklanten op TRLS]]) -> 0 | N20: =SUM(Rekenvolumes[[#This Row],[Afnameklanten op LS met piekmeting]:[Prosumenten met terugdraaiende teller op LS]]) -> 0
A21: kWhafn - XN | B21: 14 | C21: =SUM(Rekenvolumes[[#This Row],[Afnameklanten (∑)]],Rekenvolumes[[#This Row],[Injectieklanten (∑)]]) -> 0 | D21: =SUM(Rekenvolumes[[#This Row],[Afnameklanten op TRHS (∑)]],Rekenvolumes[[#This Row],[Afnameklanten op MS (∑)]],Rekenvolumes[[#This Row],[Afnameklanten op TRLS (∑)]],Rekenvolumes[[#This Row],[Afnameklanten op LS (∑)]]) -> 0 | H21: =SUM(Rekenvolumes[[#This Row],[Afnameklanten op >26-36 kV met AV < 5MVA]:[Doorvoer op 26-1kV]]) -> 0 | L21: =SUM(Rekenvolumes[[#This Row],[Afnameklanten op TRLS]]) -> 0 | N21: =SUM(Rekenvolumes[[#This Row],[Afnameklanten op LS met piekmeting]:[Prosumenten met terugdraaiende teller op LS]]) -> 0
A22: kWhinj | B22: 15 | C22: =SUM(Rekenvolumes[[#This Row],[Afnameklanten (∑)]],Rekenvolumes[[#This Row],[Injectieklanten (∑)]]) -> 0 | D22: =SUM(Rekenvolumes[[#This Row],[Afnameklanten op TRHS (∑)]],Rekenvolumes[[#This Row],[Afnameklanten op MS (∑)]],Rekenvolumes[[#This Row],[Afnameklanten op TRLS (∑)]],Rekenvolumes[[#This Row],[Afnameklanten op LS (∑)]]) -> 0 | T22: =SUM(Rekenvolumes[[#This Row],[Injectieklanten op TRHS]:[Injectieklanten op LS]]) -> 0
A23: kVArhind | B23: 16 | C23: =SUM(Rekenvolumes[[#This Row],[Afnameklanten (∑)]],Rekenvolumes[[#This Row],[Injectieklanten (∑)]]) -> 0 | D23: =SUM(Rekenvolumes[[#This Row],[Afnameklanten op TRHS (∑)]],Rekenvolumes[[#This Row],[Afnameklanten op MS (∑)]],Rekenvolumes[[#This Row],[Afnameklanten op TRLS (∑)]],Rekenvolumes[[#This Row],[Afnameklanten op LS (∑)]]) -> 0 | E23: =SUM(Rekenvolumes[[#This Row],[Afnameklanten op TRHS]:[Afnameklanten op >26-36 kV met AV ≥ 5MVA]]) -> 0 | H23: =SUM(Rekenvolumes[[#This Row],[Afnameklanten op >26-36 kV met AV < 5MVA]:[Doorvoer op 26-1kV]]) -> 0 | L23: =SUM(Rekenvolumes[[#This Row],[Afnameklanten op TRLS]]) -> 0
A24: kVArhcap | B24: 17 | C24: =SUM(Rekenvolumes[[#This Row],[Afnameklanten (∑)]],Rekenvolumes[[#This Row],[Injectieklanten (∑)]]) -> 0 | D24: =SUM(Rekenvolumes[[#This Row],[Afnameklanten op TRHS (∑)]],Rekenvolumes[[#This Row],[Afnameklanten op MS (∑)]],Rekenvolumes[[#This Row],[Afnameklanten op TRLS (∑)]],Rekenvolumes[[#This Row],[Afnameklanten op LS (∑)]]) -> 0 | E24: =SUM(Rekenvolumes[[#This Row],[Afnameklanten op TRHS]:[Afnameklanten op >26-36 kV met AV ≥ 5MVA]]) -> 0 | H24: =SUM(Rekenvolumes[[#This Row],[Afnameklanten op >26-36 kV met AV < 5MVA]:[Doorvoer op 26-1kV]]) -> 0 | L24: =SUM(Rekenvolumes[[#This Row],[Afnameklanten op TRLS]]) -> 0
A25: kWomv | B25: 18 | C25: =SUM(Rekenvolumes[[#This Row],[Afnameklanten (∑)]],Rekenvolumes[[#This Row],[Injectieklanten (∑)]]) -> 0 | D25: =SUM(Rekenvolumes[[#This Row],[Afnameklanten op TRHS (∑)]],Rekenvolumes[[#This Row],[Afnameklanten op MS (∑)]],Rekenvolumes[[#This Row],[Afnameklanten op TRLS (∑)]],Rekenvolumes[[#This Row],[Afnameklanten op LS (∑)]]) -> 0 | N25: =SUM(Rekenvolumes[[#This Row],[Afnameklanten op LS met piekmeting]:[Prosumenten met terugdraaiende teller op LS]]) -> 0
A27: 2 x kVATV + 1,5 kWMP-TV | C27: =SUM($D27,$T27) -> 0 | D27: =SUM($E27,$H27,$L27,$N27) -> 0 | E27: =SUM($F27:$G27) -> 0 | F27: =(1+FACTOR_MP_TV)*F$15+FACTOR_OST*F$17 -> 0 | G27: =(1+FACTOR_MP_TV)*G$15+FACTOR_OST*G$17 -> 0 | H27: =SUM($I27:$K27) -> 0 | I27: =(1+FACTOR_MP_TV)*I$15+FACTOR_OST*I$17 -> 0 | J27: =(1+FACTOR_MP_TV)*J$15+FACTOR_OST*J$17 -> 0 | K27: =(1+FACTOR_MP_TV)*K$15+FACTOR_OST*K$17 -> 0 | L27: =SUM($M27:$M27) -> 0 | M27: =(1+FACTOR_MP_TV)*M$15+FACTOR_OST*M$17 -> 0 | AB27: Hulplijnen
A28: kWhafn | C28: =SUM($D28,$T28) -> 0 | D28: =SUM($E28,$H28,$L28,$N28) -> 0 | E28: =SUM($F28:$G28) -> 0 | F28: =SUM(F$19:F$21) -> 0 | G28: =SUM(G$19:G$21) -> 0 | H28: =SUM($I28:$K28) -> 0 | I28: =SUM(I$19:I$21) -> 0 | J28: =SUM(J$19:J$21) -> 0 | K28: =SUM(K$19:K$21) -> 0 | L28: =SUM($M28:$M28) -> 0 | M28: =SUM(M$19:M$21) -> 0 | N28: =SUM($O28:$S28) -> 0 | O28: =SUM(O$19:O$21) -> 0 | P28: =SUM(P$19:P$21) -> 0 | Q28: =SUM(Q$19:Q$21) -> 0 | R28: =SUM(R$19:R$21) -> 0 | S28: =SUM(S$19:S$21) -> 0
A29: 75% EAN + 25% kWh | C29: =SUM($D29,$T29) -> 0 | D29: =SUM($E29,$H29,$L29,$N29) -> 0 | E29: =SUM($F29:$G29) -> 0 | F29: =0.75*F$8+0.25*SUM(F$19:F$21) -> 0 | G29: =0.75*G$8+0.25*SUM(G$19:G$21) -> 0 | H29: =SUM($I29:$K29) -> 0 | I29: =0.75*I$8+0.25*SUM(I$19:I$21) -> 0 | J29: =0.75*J$8+0.25*SUM(J$19:J$21) -> 0 | K29: =0.75*K$8+0.25*SUM(K$19:K$21) -> 0 | L29: =SUM($M29:$M29) -> 0 | M29: =0.75*M$8+0.25*SUM(M$19:M$21) -> 0 | N29: =SUM($O29:$S29) -> 0 | O29: =0.75*O$8+0.25*SUM(O$19:O$21) -> 0 | P29: =0.75*P$8+0.25*SUM(P$19:P$21) -> 0 | Q29: =0.75*Q$8+0.25*SUM(Q$19:Q$21) -> 0 | R29: =0.75*R$8+0.25*SUM(R$19:R$21) -> 0 | S29: =0.75*S$8+0.25*SUM(S$19:S$21) -> 0

Sheet MAXIMUM
A1: Maximumtarieven
B4: Distributienetbeheerder: | E4: =DNB -> Naam distributienetbeheerder
A7: Klantengroep | B7: Vóór toepassing van het maximumtarief | D7: Na toepassing van het maximumtarief | F7: Na budgetverhoging | J7: Werkblad
B8: Totaal budget | C8: Budget Netgebruik | D8: Niet-geïnd budget (%) | E8: Niet-geïnd budget (€) | F8: Tariefverhoging (%) | G8: Budgetverhoging (€) | H8: Budget netgebruik | I8: ∆ Budget Netgebruik
A9: Afnameklanten op TRHS | B9: =Tabel3A[[#Totals],[Afnameklanten op TRHS (∑)]] -> #VALUE! | C9: =INDEX(Tabel3A[Afnameklanten op TRHS (∑)],1) -> #VALUE! | D9: ='Max Afname TRHS'!$Y$41/SUM('Max Afname TRHS'!$N$41:$O$41) -> #VALUE! | E9: =$D9*$C9 -> #VALUE! | F9: =PROCENT_VERHOGING_NA_MAX-1 -> 0 | G9: =$F9*$C9 -> #VALUE! | H9: =SUM($C9,-$E9,$G9) -> #VALUE! | I9: =$H9/$C9 -> #VALUE! | J9: Max Afname TRHS
A10: Afnameklanten op >26-36 kV met AV ≥ 5MVA
A11: Afnameklanten op >26-36 kV met AV < 5MVA | B11: =Tabel3A[[#Totals],[Afnameklanten op MS (∑)]] -> #VALUE! | C11: =INDEX(Tabel3A[Afnameklanten op MS (∑)],1) -> #VALUE! | D11: ='Max Afname MS'!$Y$42/('Max Afname MS'!$N$42+'Max Afname MS'!$O$42) -> #VALUE! | E11: =$D11*$C11 -> #VALUE! | F11: =PROCENT_VERHOGING_NA_MAX-1 -> 0 | G11: =$F11*$C11 -> #VALUE! | H11: =SUM($C11,-$E11,$G11) -> #VALUE! | I11: =$H11/$C11 -> #VALUE! | J11: Max Afname MS
A12: Afnameklanten op 26-1kV
A13: Doorvoer op 26-1kV
A14: Afnameklanten op TRLS | B14: =Tabel3A[[#Totals],[Afnameklanten op TRLS (∑)]] -> #VALUE! | C14: =INDEX(Tabel3A[Afnameklanten op TRLS (∑)],1) -> #VALUE! | D14: ='Max Afname TRLS'!$Y$40/('Max Afname TRLS'!$N$40+'Max Afname TRLS'!$O$40) -> #VALUE! | E14: =$D14*$C14 -> #VALUE! | F14: =PROCENT_VERHOGING_NA_MAX-1 -> 0 | G14: =$F14*$C14 -> #VALUE! | H14: =SUM($C14,-$E14,$G14) -> #VALUE! | I14: =$H14/$C14 -> #VALUE! | J14: Max Afname TRLS
A15: Afnameklanten op LS met piekmeting | B15: =Tabel3A[[#Totals],[Afnameklanten op LS met piekmeting (∑)]] -> #DIV/0! | C15: =INDEX(Tabel3A[Afnameklanten op LS met piekmeting (∑)],1) -> #DIV/0! | D15: ='Max Afname LS'!$S$40/('Max Afname LS'!$K$40+'Max Afname LS'!$L$40) -> #DIV/0! | E15: =$D15*$C15 -> #DIV/0! | F15: =PROCENT_VERHOGING_NA_MAX-1 -> 0 | G15: =$F15*$C15 -> #DIV/0! | H15: =SUM($C15,-$E15,$G15) -> #DIV/0! | I15: =$H15/$C15 -> #DIV/0! | J15: Max Afname LS
A16: Doorvoer op LS met piekmeting | E16: =$D16*$C16 -> 0
A17: Afnameklanten op LS met klassieke meter | B17: =Tabel3A[[#Totals],[Afnameklanten met klassieke/terugdraaiende meter (∑)]] -> #DIV/0! | C17: =INDEX(Tabel3A[Afnameklanten met klassieke/terugdraaiende meter (∑)],1) -> #DIV/0! | F17: =PROCENT_VERHOGING_NA_MAX-1 -> 0 | G17: =$F17*$C17 -> #DIV/0! | H17: =SUM($C17,-$E17,$G17) -> #DIV/0! | I17: =$H17/$C17 -> #DIV/0!
A18: Doorvoer op LS zonder piekmeting
A19: Prosumenten met terugdraaiende teller op LS
A20: Totaal afnameklanten | B20: =SUM(B$9:B$19) -> #VALUE! | C20: =SUM(C$9:C$19) -> #VALUE! | E20: =SUM(E$9:E$19) -> #VALUE! | F20: =PROCENT_VERHOGING_NA_MAX-1 -> 0 | G20: =SUM(G$9:G$19) -> #VALUE! | H20: =SUM(H$9:H$19) -> #VALUE! | I20: =$H20/$C20 -> #VALUE!
A21: Injectieklanten op TRHS | B21: =Tabel3A[[#Totals],[Injectieklanten (∑)]] -> #VALUE! | C21: =INDEX(Tabel3A[Injectieklanten (∑)],1) -> #VALUE! | D21: ='Max Injectie'!$J$38/'Max Injectie'!$F$38 -> #VALUE! | E21: =$D21*$C21 -> #VALUE! | H21: =SUM($C21,-$E21) -> #VALUE! | I21: =$H21/$C21 -> #VALUE! | J21: Max Injectie
A22: Injectieklanten op >26-36kV
A23: Injectieklanten op 26-1kV
A24: Injectieklanten op TRLS
A25: Injectieklanten op LS
A26: Totaal injectieklanten | B26: =SUM(B$21:B$25) -> #VALUE! | C26: =SUM(C$21:C$25) -> #VALUE! | E26: =SUM(E$21:E$25) -> #VALUE! | H26: =SUM(H$21:H$25) -> #VALUE! | I26: =$H26/$C26 -> #VALUE!
A27: Totaal afname- en injectieklanten | B27: =SUM(B$20,B$26) -> #VALUE! | C27: =SUM(C$20,C$26) -> #VALUE! | E27: =SUM(E$20,E$26) -> #VALUE! | G27: =SUM(G$20,G$26) -> #VALUE! | H27: =SUM(H$20,H$26) -> #VALUE! | I27: =$H27/$C27 -> #VALUE!
F32: DOELZOEKEN
F34: Te wijzigen waarde: | G34: 1
F36: Doelzoeken op: | G36: =$I$27 -> #VALUE! | H36: = 100%

Sheet Max Afname TRHS
A1: Toepassing van maximumtarieven - Afname TRHS
B4: Distributienetbeheerder: | D4: =DNB -> Naam distributienetbeheerder
L7: Tarieven | M7: kVATV | N7: =INDEX(Tabel3B[Afnameklanten op TRHS (∑)],1) -> #VALUE! | P7: =$N$7*$P$16 -> #VALUE!
M8: kWMP | N8: =INDEX(Tabel3B[Afnameklanten op TRHS (∑)],2) -> #VALUE! | P8: =$N$8*$P$16 -> #VALUE!
M9: kWMP-TV | O9: =INDEX(Tabel3B[Afnameklanten op TRHS (∑)],3) -> #VALUE! | Q9: =$O$9*$P$16 -> #VALUE!
M10: kWhafn | R10: =INDEX(Tabel3B[Afnameklanten op TRHS (∑)],15) -> #VALUE! | S10: =INDEX(Tabel3B[Afnameklanten op TRHS (∑)],17) -> #VALUE! | T10: =INDEX(Tabel3B[Afnameklanten op TRHS (∑)],18) -> #DIV/0!
M11: kWhafn XN | R11: =INDEX(Tabel3B[Afnameklanten op TRHS (∑)],16) -> 0
M12: AMR | U12: =INDEX(Tabel3B[Afnameklanten op TRHS (∑)],9) -> #DIV/0!
M13: MMR | U13: =INDEX(Tabel3B[Afnameklanten op TRHS (∑)],10) -> #DIV/0!
M14: kVArh | V14: =INDEX(Tabel3B[Afnameklanten op TRHS (∑)],8) -> #VALUE!
M15: Maximum
M16: Tariefverhoging | P16: =PROCENT_VERHOGING_NA_MAX -> 1
N18: Vóór toepassing van het maximumtarief | P18: Na tariefverhoging | R18: Openbare dienstverplichtingen | S18: Toeslagen | T18: Overige transmissie | U18: Databeheer | V18: Reactieve energie | X18: Na toepassing van het maximumtarief
A19: EAN-code | B19: Klantengroep | C19: Noodvoeding? | D19: Metertype | E19: kVATV | F19: kWMP | G19: kWMP-TV | H19: kWhafn NU | I19: kWhafn SU | J19: kWhafn XN | K19: kVArhind | L19: kVArhcap | N19: Netgebruik (excl. OST) | O19: Netgebruik (OST) | P19: Netgebruik (excl. OST) | Q19: Netgebruik (OST) | X19: Maximum | Y19: Niet-geïnd
N20: =$N$7*$E20+$N$8*$F20 -> #VALUE! | O20: =$O$9*$G20 -> #VALUE! | P20: =$P$7*$E20+$P$8*$F20 -> #VALUE! | Q20: =$Q$9*$G20 -> #VALUE! | R20: =$R$10*($H20+$I20)+$R$11*$J20 -> #VALUE! | S20: =$S$10*($H20+$I20+$J20) -> #VALUE! | T20: =$T$10*($H20+$I20+$J20) -> #DIV/0! | U20: =INDEX($U$12:$U$13,MATCH($D20,$M$12:$M$13,0))/12 -> #N/A | V20: =$V$14*($K20+$L20) -> #VALUE! | X20: =$N$15*($H20+$I20+$J20) -> 0 | Y20: =IF($C20="x",0,MAX(SUM($P20,$R20:$T20)-$X20,0)) -> #VALUE!
N21: =$N$7*$E21+$N$8*$F21 -> #VALUE! | O21: =$O$9*$G21 -> #VALUE! | P21: =$P$7*$E21+$P$8*$F21 -> #VALUE! | Q21: =$Q$9*$G21 -> #VALUE! | R21: =$R$10*($H21+$I21)+$R$11*$J21 -> #VALUE! | S21: =$S$10*($H21+$I21+$J21) -> #VALUE! | T21: =$T$10*($H21+$I21+$J21) -> #DIV/0! | U21: =INDEX($U$12:$U$13,MATCH($D21,$M$12:$M$13,0))/12 -> #N/A | V21: =$V$14*($K21+$L21) -> #VALUE! | X21: =$N$15*($H21+$I21+$J21) -> 0 | Y21: =IF($C21="x",0,MAX(SUM($P21,$R21:$T21)-$X21,0)) -> #VALUE!
N22: =$N$7*$E22+$N$8*$F22 -> #VALUE! | O22: =$O$9*$G22 -> #VALUE! | P22: =$P$7*$E22+$P$8*$F22 -> #VALUE! | Q22: =$Q$9*$G22 -> #VALUE! | R22: =$R$10*($H22+$I22)+$R$11*$J22 -> #VALUE! | S22: =$S$10*($H22+$I22+$J22) -> #VALUE! | T22: =$T$10*($H22+$I22+$J22) -> #DIV/0! | U22: =INDEX($U$12:$U$13,MATCH($D22,$M$12:$M$13,0))/12 -> #N/A | V22: =$V$14*($K22+$L22) -> #VALUE! | X22: =$N$15*($H22+$I22+$J22) -> 0 | Y22: =IF($C22="x",0,MAX(SUM($P22,$R22:$T22)-$X22,0)) -> #VALUE!
N23: =$N$7*$E23+$N$8*$F23 -> #VALUE! | O23: =$O$9*$G23 -> #VALUE! | P23: =$P$7*$E23+$P$8*$F23 -> #VALUE! | Q23: =$Q$9*$G23 -> #VALUE! | R23: =$R$10*($H23+$I23)+$R$11*$J23 -> #VALUE! | S23: =$S$10*($H23+$I23+$J23) -> #VALUE! | T23: =$T$10*($H23+$I23+$J23) -> #DIV/0! | U23: =INDEX($U$12:$U$13,MATCH($D23,$M$12:$M$13,0))/12 -> #N/A | V23: =$V$14*($K23+$L23) -> #VALUE! | X23: =$N$15*($H23+$I23+$J23) -> 0 | Y23: =IF($C23="x",0,MAX(SUM($P23,$R23:$T23)-$X23,0)) -> #VALUE!
N24: =$N$7*$E24+$N$8*$F24 -> #VALUE! | O24: =$O$9*$G24 -> #VALUE! | P24: =$P$7*$E24+$P$8*$F24 -> #VALUE! | Q24: =$Q$9*$G24 -> #VALUE! | R24: =$R$10*($H24+$I24)+$R$11*$J24 -> #VALUE! | S24: =$S$10*($H24+$I24+$J24) -> #VALUE! | T24: =$T$10*($H24+$I24+$J24) -> #DIV/0! | U24: =INDEX($U$12:$U$13,MATCH($D24,$M$12:$M$13,0))/12 -> #N/A | V24: =$V$14*($K24+$L24) -> #VALUE! | X24: =$N$15*($H24+$I24+$J24) -> 0 | Y24: =IF($C24="x",0,MAX(SUM($P24,$R24:$T24)-$X24,0)) -> #VALUE!
N25: =$N$7*$E25+$N$8*$F25 -> #VALUE! | O25: =$O$9*$G25 -> #VALUE! | P25: =$P$7*$E25+$P$8*$F25 -> #VALUE! | Q25: =$Q$9*$G25 -> #VALUE! | R25: =$R$10*($H25+$I25)+$R$11*$J25 -> #VALUE! | S25: =$S$10*($H25+$I25+$J25) -> #VALUE! | T25: =$T$10*($H25+$I25+$J25) -> #DIV/0! | U25: =INDEX($U$12:$U$13,MATCH($D25,$M$12:$M$13,0))/12 -> #N/A | V25: =$V$14*($K25+$L25) -> #VALUE! | X25: =$N$15*($H25+$I25+$J25) -> 0 | Y25: =IF($C25="x",0,MAX(SUM($P25,$R25:$T25)-$X25,0)) -> #VALUE!
N26: =$N$7*$E26+$N$8*$F26 -> #VALUE! | O26: =$O$9*$G26 -> #VALUE! | P26: =$P$7*$E26+$P$8*$F26 -> #VALUE! | Q26: =$Q$9*$G26 -> #VALUE! | R26: =$R$10*($H26+$I26)+$R$11*$J26 -> #VALUE! | S26: =$S$10*($H26+$I26+$J26) -> #VALUE! | T26: =$T$10*($H26+$I26+$J26) -> #DIV/0! | U26: =INDEX($U$12:$U$13,MATCH($D26,$M$12:$M$13,0))/12 -> #N/A | V26: =$V$14*($K26+$L26) -> #VALUE! | X26: =$N$15*($H26+$I26+$J26) -> 0 | Y26: =IF($C26="x",0,MAX(SUM($P26,$R26:$T26)-$X26,0)) -> #VALUE!
N27: =$N$7*$E27+$N$8*$F27 -> #VALUE! | O27: =$O$9*$G27 -> #VALUE! | P27: =$P$7*$E27+$P$8*$F27 -> #VALUE! | Q27: =$Q$9*$G27 -> #VALUE! | R27: =$R$10*($H27+$I27)+$R$11*$J27 -> #VALUE! | S27: =$S$10*($H27+$I27+$J27) -> #VALUE! | T27: =$T$10*($H27+$I27+$J27) -> #DIV/0! | U27: =INDEX($U$12:$U$13,MATCH($D27,$M$12:$M$13,0))/12 -> #N/A | V27: =$V$14*($K27+$L27) -> #VALUE! | X27: =$N$15*($H27+$I27+$J27) -> 0 | Y27: =IF($C27="x",0,MAX(SUM($P27,$R27:$T27)-$X27,0)) -> #VALUE!
N28: =$N$7*$E28+$N$8*$F28 -> #VALUE! | O28: =$O$9*$G28 -> #VALUE! | P28: =$P$7*$E28+$P$8*$F28 -> #VALUE! | Q28: =$Q$9*$G28 -> #VALUE! | R28: =$R$10*($H28+$I28)+$R$11*$J28 -> #VALUE! | S28: =$S$10*($H28+$I28+$J28) -> #VALUE! | T28: =$T$10*($H28+$I28+$J28) -> #DIV/0! | U28: =INDEX($U$12:$U$13,MATCH($D28,$M$12:$M$13,0))/12 -> #N/A | V28: =$V$14*($K28+$L28) -> #VALUE! | X28: =$N$15*($H28+$I28+$J28) -> 0 | Y28: =IF($C28="x",0,MAX(SUM($P28,$R28:$T28)-$X28,0)) -> #VALUE!
N29: =$N$7*$E29+$N$8*$F29 -> #VALUE! | O29: =$O$9*$G29 -> #VALUE! | P29: =$P$7*$E29+$P$8*$F29 -> #VALUE! | Q29: =$Q$9*$G29 -> #VALUE! | R29: =$R$10*($H29+$I29)+$R$11*$J29 -> #VALUE! | S29: =$S$10*($H29+$I29+$J29) -> #VALUE! | T29: =$T$10*($H29+$I29+$J29) -> #DIV/0! | U29: =INDEX($U$12:$U$13,MATCH($D29,$M$12:$M$13,0))/12 -> #N/A | V29: =$V$14*($K29+$L29) -> #VALUE! | X29: =$N$15*($H29+$I29+$J29) -> 0 | Y29: =IF($C29="x",0,MAX(SUM($P29,$R29:$T29)-$X29,0)) -> #VALUE!
N30: =$N$7*$E30+$N$8*$F30 -> #VALUE! | O30: =$O$9*$G30 -> #VALUE! | P30: =$P$7*$E30+$P$8*$F30 -> #VALUE! | Q30: =$Q$9*$G30 -> #VALUE! | R30: =$R$10*($H30+$I30)+$R$11*$J30 -> #VALUE! | S30: =$S$10*($H30+$I30+$J30) -> #VALUE! | T30: =$T$10*($H30+$I30+$J30) -> #DIV/0! | U30: =INDEX($U$12:$U$13,MATCH($D30,$M$12:$M$13,0))/12 -> #N/A | V30: =$V$14*($K30+$L30) -> #VALUE! | X30: =$N$15*($H30+$I30+$J30) -> 0 | Y30: =IF($C30="x",0,MAX(SUM($P30,$R30:$T30)-$X30,0)) -> #VALUE!
N31: =$N$7*$E31+$N$8*$F31 -> #VALUE! | O31: =$O$9*$G31 -> #VALUE! | P31: =$P$7*$E31+$P$8*$F31 -> #VALUE! | Q31: =$Q$9*$G31 -> #VALUE! | R31: =$R$10*($H31+$I31)+$R$11*$J31 -> #VALUE! | S31: =$S$10*($H31+$I31+$J31) -> #VALUE! | T31: =$T$10*($H31+$I31+$J31) -> #DIV/0! | U31: =INDEX($U$12:$U$13,MATCH($D31,$M$12:$M$13,0))/12 -> #N/A | V31: =$V$14*($K31+$L31) -> #VALUE! | X31: =$N$15*($H31+$I31+$J31) -> 0 | Y31: =IF($C31="x",0,MAX(SUM($P31,$R31:$T31)-$X31,0)) -> #VALUE!
... N38: =$N$7*$E38+$N$8*$F38 -> #VALUE! | O38: =$O$9*$G38 -> #VALUE! | P38: =$P$7*$E38+$P$8*$F38 -> #VALUE! | Q38: =$Q$9*$G38 -> #VALUE! | R38: =$R$10*($H38+$I38)+$R$11*$J38 -> #VALUE! | S38: =$S$10*($H38+$I38+$J38) -> #VALUE! | T38: =$T$10*($H38+$I38+$J38) -> #DIV/0! | U38: =INDEX($U$12:$U$13,MATCH($D38,$M$12:$M$13,0))/12 -> #N/A | V38: =$V$14*($K38+$L38) -> #VALUE! | X38: =$N$15*($H38+$I38+$J38) -> 0 | Y38: =IF($C38="x",0,MAX(SUM($P38,$R38:$T38)-$X38,0)) -> #VALUE!
B39: Afnameklanten op TRHS | D39: =COUNTIFS($B$20:$B$38,$B39) -> 0 | E39: =SUMIFS(E$20:E$38,$B$20:$B$38,$B39) -> 0 | F39: =SUMIFS(F$20:F$38,$B$20:$B$38,$B39) -> 0 | G39: =SUMIFS(G$20:G$38,$B$20:$B$38,$B39) -> 0 | H39: =SUMIFS(H$20:H$38,$B$20:$B$38,$B39) -> 0 | I39: =SUMIFS(I$20:I$38,$B$20:$B$38,$B39) -> 0 | J39: =SUMIFS(J$20:J$38,$B$20:$B$38,$B39) -> 0 | K39: =SUMIFS(K$20:K$38,$B$20:$B$38,$B39) -> 0 | L39: =SUMIFS(L$20:L$38,$B$20:$B$38,$B39) -> 0 | N39: =SUMIFS(N$20:N$38,$B$20:$B$38,$B39) -> 0 | O39: =SUMIFS(O$20:O$38,$B$20:$B$38,$B39) -> 0 | P39: =SUMIFS(P$20:P$38,$B$20:$B$38,$B39) -> 0 | Q39: =SUMIFS(Q$20:Q$38,$B$20:$B$38,$B39) -> 0 | R39: =SUMIFS(R$20:R$38,$B$20:$B$38,$B39) -> 0 | S39: =SUMIFS(S$20:S$38,$B$20:$B$38,$B39) -> 0 | T39: =SUMIFS(T$20:T$38,$B$20:$B$38,$B39) -> 0 | U39: =SUMIFS(U$20:U$38,$B$20:$B$38,$B39) -> 0 | V39: =SUMIFS(V$20:V$38,$B$20:$B$38,$B39) -> 0 | Y39: =SUMIFS(Y$20:Y$38,$B$20:$B$38,$B39) -> 0
B40: Afnameklanten op >26-36 kV met AV < 5MVA | D40: =COUNTIFS($B$20:$B$38,$B40) -> 0 | E40: =SUMIFS(E$20:E$38,$B$20:$B$38,$B40) -> 0 | F40: =SUMIFS(F$20:F$38,$B$20:$B$38,$B40) -> 0 | G40: =SUMIFS(G$20:G$38,$B$20:$B$38,$B40) -> 0 | H40: =SUMIFS(H$20:H$38,$B$20:$B$38,$B40) -> 0 | I40: =SUMIFS(I$20:I$38,$B$20:$B$38,$B40) -> 0 | J40: =SUMIFS(J$20:J$38,$B$20:$B$38,$B40) -> 0 | K40: =SUMIFS(K$20:K$38,$B$20:$B$38,$B40) -> 0 | L40: =SUMIFS(L$20:L$38,$B$20:$B$38,$B40) -> 0 | N40: =SUMIFS(N$20:N$38,$B$20:$B$38,$B40) -> 0 | O40: =SUMIFS(O$20:O$38,$B$20:$B$38,$B40) -> 0 | P40: =SUMIFS(P$20:P$38,$B$20:$B$38,$B40) -> 0 | Q40: =SUMIFS(Q$20:Q$38,$B$20:$B$38,$B40) -> 0 | R40: =SUMIFS(R$20:R$38,$B$20:$B$38,$B40) -> 0 | S40: =SUMIFS(S$20:S$38,$B$20:$B$38,$B40) -> 0 | T40: =SUMIFS(T$20:T$38,$B$20:$B$38,$B40) -> 0 | U40: =SUMIFS(U$20:U$38,$B$20:$B$38,$B40) -> 0 | V40: =SUMIFS(V$20:V$38,$B$20:$B$38,$B40) -> 0 | Y40: =SUMIFS(Y$20:Y$38,$B$20:$B$38,$B40) -> 0
A41: Totaal | D41: =COUNT(D$20:D$38) -> 0 | E41: =SUM(E$20:E$38) -> 0 | F41: =SUM(F$20:F$38) -> 0 | G41: =SUM(G$20:G$38) -> 0 | H41: =SUM(H$20:H$38) -> 0 | I41: =SUM(I$20:I$38) -> 0 | J41: =SUM(J$20:J$38) -> 0 | K41: =SUM(K$20:K$38) -> 0 | L41: =SUM(L$20:L$38) -> 0 | N41: =SUBTOTAL(109,N$20:N$38) -> #VALUE! | O41: =SUBTOTAL(109,O$20:O$38) -> #VALUE! | P41: =SUBTOTAL(109,P$20:P$38) -> #VALUE! | Q41: =SUBTOTAL(109,Q$20:Q$38) -> #VALUE! | R41: =SUBTOTAL(109,R$20:R$38) -> #VALUE! | S41: =SUBTOTAL(109,S$20:S$38) -> #VALUE! | T41: =SUBTOTAL(109,T$20:T$38) -> #DIV/0! | U41: =SUBTOTAL(109,U$20:U$38) -> #N/A | V41: =SUBTOTAL(109,V$20:V$38) -> #VALUE! | Y41: =SUBTOTAL(109,Y$20:Y$38) -> #VALUE!

Sheet Max Afname MS
A1: Toepassing van maximumtarieven - Afname MS
B4: Distributienetbeheerder: | D4: =DNB -> Naam distributienetbeheerder
L7: Tarieven | M7: kVATV | N7: =INDEX(Tabel3B[Afnameklanten op MS (∑)],1) -> #VALUE! | P7: =$N$7*$P$16 -> #VALUE!
M8: kWMP | N8: =INDEX(Tabel3B[Afnameklanten op MS (∑)],2) -> #VALUE! | P8: =$N$8*$P$16 -> #VALUE!
M9: kWMP-TV | O9: =INDEX(Tabel3B[Afnameklanten op MS (∑)],3) -> #VALUE! | Q9: =$O$9*$P$16 -> #VALUE!
M10: kWhafn | R10: =INDEX(Tabel3B[Afnameklanten op MS (∑)],15) -> #VALUE! | S10: =INDEX(Tabel3B[Afnameklanten op MS (∑)],17) -> #VALUE! | T10: =INDEX(Tabel3B[Afnameklanten op MS (∑)],18) -> #DIV/0!
M11: kWhafn XN | R11: =INDEX(Tabel3B[Afnameklanten op MS (∑)],16) -> #VALUE!
M12: AMR | U12: =INDEX(Tabel3B[Afnameklanten op MS (∑)],9) -> #DIV/0!
M13: MMR | U13: =INDEX(Tabel3B[Afnameklanten op MS (∑)],10) -> #DIV/0!
M14: kVArh | V14: =INDEX(Tabel3B[Afnameklanten op MS (∑)],8) -> #VALUE!
M15: Maximum
M16: Tariefverhoging | P16: =PROCENT_VERHOGING_NA_MAX -> 1
N18: Vóór toepassing van het maximumtarief | P18: Na tariefverhoging | R18: Openbare dienstverplichtingen | S18: Toeslagen | T18: Overige transmissie | U18: Databeheer | V18: Reactieve energie | X18: Na toepassing van het maximumtarief
A19: EAN-code | B19: Klantengroep | C19: Noodvoeding? | D19: Metertype | E19: kVATV | F19: kWMP | G19: kWMP-TV | H19: kWhafn NU | I19: kWhafn SU | J19: kWhafn XN | K19: kVArhind | L19: kVArhcap | N19: Netgebruik (excl. OST) | O19: Netgebruik (OST) | P19: Netgebruik (excl. OST) | Q19: Netgebruik (OST) | X19: Maximum | Y19: Niet-geïnd
N20: =IF($B20="Doorvoer op 26-1kV",FACTOR_DOORVOER,1)*($N$7*$E20+$N$8*$F20) -> #VALUE! | O20: =IF($B20="Doorvoer op 26-1kV",FACTOR_DOORVOER,1)*($O$9*$G20) -> #VALUE! | P20: =IF($B20="Doorvoer op 26-1kV",FACTOR_DOORVOER,1)*($P$7*$E20+$P$8*$F20) -> #VALUE! | Q20: =IF($B20="Doorvoer op 26-1kV",FACTOR_DOORVOER,1)*($Q$9*$G20) -> #VALUE! | R20: =IF($B20="Doorvoer op 26-1kV",FACTOR_DOORVOER,1)*($R$10*($H20+$I20)+$R$11*$J20) -> #VALUE! | S20: =IF($B20="Doorvoer op 26-1kV",FACTOR_DOORVOER,1)*($S$10*($H20+$I20+$J20)) -> #VALUE! | T20: =IF($B20="Doorvoer op 26-1kV",FACTOR_DOORVOER,1)*$T$10*($H20+$I20+$J20) -> #DIV/0! | U20: =IF($B20="Doorvoer op 26-1kV",FACTOR_DOORVOER,1)*(INDEX($U$12:$U$13,MATCH($D20,$M$12:$M$13,0)))/12 -> #N/A | V20: =IF($B20="Doorvoer op 26-1kV",FACTOR_DOORVOER,1)*($V$14*($K20+$L20)) -> #VALUE! | X20: =IF($B20="Doorvoer op 26-1kV",FACTOR_DOORVOER,1)*$N$15*($H20+$I20+$J20) -> 0 | Y20: =IF($C20="x",0,MAX(SUM($P20,$R20:$T20)-$X20,0)) -> #VALUE!
N21: =IF($B21="Doorvoer op 26-1kV",FACTOR_DOORVOER,1)*($N$7*$E21+$N$8*$F21) -> #VALUE! | O21: =IF($B21="Doorvoer op 26-1kV",FACTOR_DOORVOER,1)*($O$9*$G21) -> #VALUE! | P21: =IF($B21="Doorvoer op 26-1kV",FACTOR_DOORVOER,1)*($P$7*$E21+$P$8*$F21) -> #VALUE! | Q21: =IF($B21="Doorvoer op 26-1kV",FACTOR_DOORVOER,1)*($Q$9*$G21) -> #VALUE! | R21: =IF($B21="Doorvoer op 26-1kV",FACTOR_DOORVOER,1)*($R$10*($H21+$I21)+$R$11*$J21) -> #VALUE! | S21: =IF($B21="Doorvoer op 26-1kV",FACTOR_DOORVOER,1)*($S$10*($H21+$I21+$J21)) -> #VALUE! | T21: =IF($B21="Doorvoer op 26-1kV",FACTOR_DOORVOER,1)*$T$10*($H21+$I21+$J21) -> #DIV/0! | U21: =IF($B21="Doorvoer op 26-1kV",FACTOR_DOORVOER,1)*(INDEX($U$12:$U$13,MATCH($D21,$M$12:$M$13,0)))/12 -> #N/A | V21: =IF($B21="Doorvoer op 26-1kV",FACTOR_DOORVOER,1)*($V$14*($K21+$L21)) -> #VALUE! | X21: =IF($B21="Doorvoer op 26-1kV",FACTOR_DOORVOER,1)*$N$15*($H21+$I21+$J21) -> 0 | Y21: =IF($C21="x",0,MAX(SUM($P21,$R21:$T21)-$X21,0)) -> #VALUE!
N22: =IF($B22="Doorvoer op 26-1kV",FACTOR_DOORVOER,1)*($N$7*$E22+$N$8*$F22) -> #VALUE! | O22: =IF($B22="Doorvoer op 26-1kV",FACTOR_DOORVOER,1)*($O$9*$G22) -> #VALUE! | P22: =IF($B22="Doorvoer op 26-1kV",FACTOR_DOORVOER,1)*($P$7*$E22+$P$8*$F22) -> #VALUE! | Q22: =IF($B22="Doorvoer op 26-1kV",FACTOR_DOORVOER,1)*($Q$9*$G22) -> #VALUE! | R22: =IF($B22="Doorvoer op 26-1kV",FACTOR_DOORVOER,1)*($R$10*($H22+$I22)+$R$11*$J22) -> #VALUE! | S22: =IF($B22="Doorvoer op 26-1kV",FACTOR_DOORVOER,1)*($S$10*($H22+$I22+$J22)) -> #VALUE! | T22: =IF($B22="Doorvoer op 26-1kV",FACTOR_DOORVOER,1)*$T$10*($H22+$I22+$J22) -> #DIV/0! | U22: =IF($B22="Doorvoer op 26-1kV",FACTOR_DOORVOER,1)*(INDEX($U$12:$U$13,MATCH($D22,$M$12:$M$13,0)))/12 -> #N/A | V22: =IF($B22="Doorvoer op 26-1kV",FACTOR_DOORVOER,1)*($V$14*($K22+$L22)) -> #VALUE! | X22: =IF($B22="Doorvoer op 26-1kV",FACTOR_DOORVOER,1)*$N$15*($H22+$I22+$J22) -> 0 | Y22: =IF($C22="x",0,MAX(SUM($P22,$R22:$T22)-$X22,0)) -> #VALUE!
N23: =IF($B23="Doorvoer op 26-1kV",FACTOR_DOORVOER,1)*($N$7*$E23+$N$8*$F23) -> #VALUE! | O23: =IF($B23="Doorvoer op 26-1kV",FACTOR_DOORVOER,1)*($O$9*$G23) -> #VALUE! | P23: =IF($B23="Doorvoer op 26-1kV",FACTOR_DOORVOER,1)*($P$7*$E23+$P$8*$F23) -> #VALUE! | Q23: =IF($B23="Doorvoer op 26-1kV",FACTOR_DOORVOER,1)*($Q$9*$G23) -> #VALUE! | R23: =IF($B23="Doorvoer op 26-1kV",FACTOR_DOORVOER,1)*($R$10*($H23+$I23)+$R$11*$J23) -> #VALUE! | S23: =IF($B23="Doorvoer op 26-1kV",FACTOR_DOORVOER,1)*($S$10*($H23+$I23+$J23)) -> #VALUE! | T23: =IF($B23="Doorvoer op 26-1kV",FACTOR_DOORVOER,1)*$T$10*($H23+$I23+$J23) -> #DIV/0! | U23: =IF($B23="Doorvoer op 26-1kV",FACTOR_DOORVOER,1)*(INDEX($U$12:$U$13,MATCH($D23,$M$12:$M$13,0)))/12 -> #N/A | V23: =IF($B23="Doorvoer op 26-1kV",FACTOR_DOORVOER,1)*($V$14*($K23+$L23)) -> #VALUE! | X23: =IF($B23="Doorvoer op 26-1kV",FACTOR_DOORVOER,1)*$N$15*($H23+$I23+$J23) -> 0 | Y23: =IF($C23="x",0,MAX(SUM($P23,$R23:$T23)-$X23,0)) -> #VALUE!
N24: =IF($B24="Doorvoer op 26-1kV",FACTOR_DOORVOER,1)*($N$7*$E24+$N$8*$F24) -> #VALUE! | O24: =IF($B24="Doorvoer op 26-1kV",FACTOR_DOORVOER,1)*($O$9*$G24) -> #VALUE! | P24: =IF($B24="Doorvoer op 26-1kV",FACTOR_DOORVOER,1)*($P$7*$E24+$P$8*$F24) -> #VALUE! | Q24: =IF($B24="Doorvoer op 26-1kV",FACTOR_DOORVOER,1)*($Q$9*$G24) -> #VALUE! | R24: =IF($B24="Doorvoer op 26-1kV",FACTOR_DOORVOER,1)*($R$10*($H24+$I24)+$R$11*$J24) -> #VALUE! | S24: =IF($B24="Doorvoer op 26-1kV",FACTOR_DOORVOER,1)*($S$10*($H24+$I24+$J24)) -> #VALUE! | T24: =IF($B24="Doorvoer op 26-1kV",FACTOR_DOORVOER,1)*$T$10*($H24+$I24+$J24) -> #DIV/0! | U24: =IF($B24="Doorvoer op 26-1kV",FACTOR_DOORVOER,1)*(INDEX($U$12:$U$13,MATCH($D24,$M$12:$M$13,0)))/12 -> #N/A | V24: =IF($B24="Doorvoer op 26-1kV",FACTOR_DOORVOER,1)*($V$14*($K24+$L24)) -> #VALUE! | X24: =IF($B24="Doorvoer op 26-1kV",FACTOR_DOORVOER,1)*$N$15*($H24+$I24+$J24) -> 0 | Y24: =IF($C24="x",0,MAX(SUM($P24,$R24:$T24)-$X24,0)) -> #VALUE!
N25: =IF($B25="Doorvoer op 26-1kV",FACTOR_DOORVOER,1)*($N$7*$E25+$N$8*$F25) -> #VALUE! | O25: =IF($B25="Doorvoer op 26-1kV",FACTOR_DOORVOER,1)*($O$9*$G25) -> #VALUE! | P25: =IF($B25="Doorvoer op 26-1kV",FACTOR_DOORVOER,1)*($P$7*$E25+$P$8*$F25) -> #VALUE! | Q25: =IF($B25="Doorvoer op 26-1kV",FACTOR_DOORVOER,1)*($Q$9*$G25) -> #VALUE! | R25: =IF($B25="Doorvoer op 26-1kV",FACTOR_DOORVOER,1)*($R$10*($H25+$I25)+$R$11*$J25) -> #VALUE! | S25: =IF($B25="Doorvoer op 26-1kV",FACTOR_DOORVOER,1)*($S$10*($H25+$I25+$J25)) -> #VALUE! | T25: =IF($B25="Doorvoer op 26-1kV",FACTOR_DOORVOER,1)*$T$10*($H25+$I25+$J25) -> #DIV/0! | U25: =IF($B25="Doorvoer op 26-1kV",FACTOR_DOORVOER,1)*(INDEX($U$12:$U$13,MATCH($D25,$M$12:$M$13,0)))/12 -> #N/A | V25: =IF($B25="Doorvoer op 26-1kV",FACTOR_DOORVOER,1)*($V$14*($K25+$L25)) -> #VALUE! | X25: =IF($B25="Doorvoer op 26-1kV",FACTOR_DOORVOER,1)*$N$15*($H25+$I25+$J25) -> 0 | Y25: =IF($C25="x",0,MAX(SUM($P25,$R25:$T25)-$X25,0)) -> #VALUE!
N26: =IF($B26="Doorvoer op 26-1kV",FACTOR_DOORVOER,1)*($N$7*$E26+$N$8*$F26) -> #VALUE! | O26: =IF($B26="Doorvoer op 26-1kV",FACTOR_DOORVOER,1)*($O$9*$G26) -> #VALUE! | P26: =IF($B26="Doorvoer op 26-1kV",FACTOR_DOORVOER,1)*($P$7*$E26+$P$8*$F26) -> #VALUE! | Q26: =IF($B26="Doorvoer op 26-1kV",FACTOR_DOORVOER,1)*($Q$9*$G26) -> #VALUE! | R26: =IF($B26="Doorvoer op 26-1kV",FACTOR_DOORVOER,1)*($R$10*($H26+$I26)+$R$11*$J26) -> #VALUE! | S26: =IF($B26="Doorvoer op 26-1kV",FACTOR_DOORVOER,1)*($S$10*($H26+$I26+$J26)) -> #VALUE! | T26: =IF($B26="Doorvoer op 26-1kV",FACTOR_DOORVOER,1)*$T$10*($H26+$I26+$J26) -> #DIV/0! | U26: =IF($B26="Doorvoer op 26-1kV",FACTOR_DOORVOER,1)*(INDEX($U$12:$U$13,MATCH($D26,$M$12:$M$13,0)))/12 -> #N/A | V26: =IF($B26="Doorvoer op 26-1kV",FACTOR_DOORVOER,1)*($V$14*($K26+$L26)) -> #VALUE! | X26: =IF($B26="Doorvoer op 26-1kV",FACTOR_DOORVOER,1)*$N$15*($H26+$I26+$J26) -> 0 | Y26: =IF($C26="x",0,MAX(SUM($P26,$R26:$T26)-$X26,0)) -> #VALUE!
N27: =IF($B27="Doorvoer op 26-1kV",FACTOR_DOORVOER,1)*($N$7*$E27+$N$8*$F27) -> #VALUE! | O27: =IF($B27="Doorvoer op 26-1kV",FACTOR_DOORVOER,1)*($O$9*$G27) -> #VALUE! | P27: =IF($B27="Doorvoer op 26-1kV",FACTOR_DOORVOER,1)*($P$7*$E27+$P$8*$F27) -> #VALUE! | Q27: =IF($B27="Doorvoer op 26-1kV",FACTOR_DOORVOER,1)*($Q$9*$G27) -> #VALUE! | R27: =IF($B27="Doorvoer op 26-1kV",FACTOR_DOORVOER,1)*($R$10*($H27+$I27)+$R$11*$J27) -> #VALUE! | S27: =IF($B27="Doorvoer op 26-1kV",FACTOR_DOORVOER,1)*($S$10*($H27+$I27+$J27)) -> #VALUE! | T27: =IF($B27="Doorvoer op 26-1kV",FACTOR_DOORVOER,1)*$T$10*($H27+$I27+$J27) -> #DIV/0! | U27: =IF($B27="Doorvoer op 26-1kV",FACTOR_DOORVOER,1)*(INDEX($U$12:$U$13,MATCH($D27,$M$12:$M$13,0)))/12 -> #N/A | V27: =IF($B27="Doorvoer op 26-1kV",FACTOR_DOORVOER,1)*($V$14*($K27+$L27)) -> #VALUE! | X27: =IF($B27="Doorvoer op 26-1kV",FACTOR_DOORVOER,1)*$N$15*($H27+$I27+$J27) -> 0 | Y27: =IF($C27="x",0,MAX(SUM($P27,$R27:$T27)-$X27,0)) -> #VALUE!
N28: =IF($B28="Doorvoer op 26-1kV",FACTOR_DOORVOER,1)*($N$7*$E28+$N$8*$F28) -> #VALUE! | O28: =IF($B28="Doorvoer op 26-1kV",FACTOR_DOORVOER,1)*($O$9*$G28) -> #VALUE! | P28: =IF($B28="Doorvoer op 26-1kV",FACTOR_DOORVOER,1)*($P$7*$E28+$P$8*$F28) -> #VALUE! | Q28: =IF($B28="Doorvoer op 26-1kV",FACTOR_DOORVOER,1)*($Q$9*$G28) -> #VALUE! | R28: =IF($B28="Doorvoer op 26-1kV",FACTOR_DOORVOER,1)*($R$10*($H28+$I28)+$R$11*$J28) -> #VALUE! | S28: =IF($B28="Doorvoer op 26-1kV",FACTOR_DOORVOER,1)*($S$10*($H28+$I28+$J28)) -> #VALUE! | T28: =IF($B28="Doorvoer op 26-1kV",FACTOR_DOORVOER,1)*$T$10*($H28+$I28+$J28) -> #DIV/0! | U28: =IF($B28="Doorvoer op 26-1kV",FACTOR_DOORVOER,1)*(INDEX($U$12:$U$13,MATCH($D28,$M$12:$M$13,0)))/12 -> #N/A | V28: =IF($B28="Doorvoer op 26-1kV",FACTOR_DOORVOER,1)*($V$14*($K28+$L28)) -> #VALUE! | X28: =IF($B28="Doorvoer op 26-1kV",FACTOR_DOORVOER,1)*$N$15*($H28+$I28+$J28) -> 0 | Y28: =IF($C28="x",0,MAX(SUM($P28,$R28:$T28)-$X28,0)) -> #VALUE!
N29: =IF($B29="Doorvoer op 26-1kV",FACTOR_DOORVOER,1)*($N$7*$E29+$N$8*$F29) -> #VALUE! | O29: =IF($B29="Doorvoer op 26-1kV",FACTOR_DOORVOER,1)*($O$9*$G29) -> #VALUE! | P29: =IF($B29="Doorvoer op 26-1kV",FACTOR_DOORVOER,1)*($P$7*$E29+$P$8*$F29) -> #VALUE! | Q29: =IF($B29="Doorvoer op 26-1kV",FACTOR_DOORVOER,1)*($Q$9*$G29) -> #VALUE! | R29: =IF($B29="Doorvoer op 26-1kV",FACTOR_DOORVOER,1)*($R$10*($H29+$I29)+$R$11*$J29) -> #VALUE! | S29: =IF($B29="Doorvoer op 26-1kV",FACTOR_DOORVOER,1)*($S$10*($H29+$I29+$J29)) -> #VALUE! | T29: =IF($B29="Doorvoer op 26-1kV",FACTOR_DOORVOER,1)*$T$10*($H29+$I29+$J29) -> #DIV/0! | U29: =IF($B29="Doorvoer op 26-1kV",FACTOR_DOORVOER,1)*(INDEX($U$12:$U$13,MATCH($D29,$M$12:$M$13,0)))/12 -> #N/A | V29: =IF($B29="Doorvoer op 26-1kV",FACTOR_DOORVOER,1)*($V$14*($K29+$L29)) -> #VALUE! | X29: =IF($B29="Doorvoer op 26-1kV",FACTOR_DOORVOER,1)*$N$15*($H29+$I29+$J29) -> 0 | Y29: =IF($C29="x",0,MAX(SUM($P29,$R29:$T29)-$X29,0)) -> #VALUE!
N30: =IF($B30="Doorvoer op 26-1kV",FACTOR_DOORVOER,1)*($N$7*$E30+$N$8*$F30) -> #VALUE! | O30: =IF($B30="Doorvoer op 26-1kV",FACTOR_DOORVOER,1)*($O$9*$G30) -> #VALUE! | P30: =IF($B30="Doorvoer op 26-1kV",FACTOR_DOORVOER,1)*($P$7*$E30+$P$8*$F30) -> #VALUE! | Q30: =IF($B30="Doorvoer op 26-1kV",FACTOR_DOORVOER,1)*($Q$9*$G30) -> #VALUE! | R30: =IF($B30="Doorvoer op 26-1kV",FACTOR_DOORVOER,1)*($R$10*($H30+$I30)+$R$11*$J30) -> #VALUE! | S30: =IF($B30="Doorvoer op 26-1kV",FACTOR_DOORVOER,1)*($S$10*($H30+$I30+$J30)) -> #VALUE! | T30: =IF($B30="Doorvoer op 26-1kV",FACTOR_DOORVOER,1)*$T$10*($H30+$I30+$J30) -> #DIV/0! | U30: =IF($B30="Doorvoer op 26-1kV",FACTOR_DOORVOER,1)*(INDEX($U$12:$U$13,MATCH($D30,$M$12:$M$13,0)))/12 -> #N/A | V30: =IF($B30="Doorvoer op 26-1kV",FACTOR_DOORVOER,1)*($V$14*($K30+$L30)) -> #VALUE! | X30: =IF($B30="Doorvoer op 26-1kV",FACTOR_DOORVOER,1)*$N$15*($H30+$I30+$J30) -> 0 | Y30: =IF($C30="x",0,MAX(SUM($P30,$R30:$T30)-$X30,0)) -> #VALUE!
N31: =IF($B31="Doorvoer op 26-1kV",FACTOR_DOORVOER,1)*($N$7*$E31+$N$8*$F31) -> #VALUE! | O31: =IF($B31="Doorvoer op 26-1kV",FACTOR_DOORVOER,1)*($O$9*$G31) -> #VALUE! | P31: =IF($B31="Doorvoer op 26-1kV",FACTOR_DOORVOER,1)*($P$7*$E31+$P$8*$F31) -> #VALUE! | Q31: =IF($B31="Doorvoer op 26-1kV",FACTOR_DOORVOER,1)*($Q$9*$G31) -> #VALUE! | R31: =IF($B31="Doorvoer op 26-1kV",FACTOR_DOORVOER,1)*($R$10*($H31+$I31)+$R$11*$J31) -> #VALUE! | S31: =IF($B31="Doorvoer op 26-1kV",FACTOR_DOORVOER,1)*($S$10*($H31+$I31+$J31)) -> #VALUE! | T31: =IF($B31="Doorvoer op 26-1kV",FACTOR_DOORVOER,1)*$T$10*($H31+$I31+$J31) -> #DIV/0! | U31: =IF($B31="Doorvoer op 26-1kV",FACTOR_DOORVOER,1)*(INDEX($U$12:$U$13,MATCH($D31,$M$12:$M$13,0)))/12 -> #N/A | V31: =IF($B31="Doorvoer op 26-1kV",FACTOR_DOORVOER,1)*($V$14*($K31+$L31)) -> #VALUE! | X31: =IF($B31="Doorvoer op 26-1kV",FACTOR_DOORVOER,1)*$N$15*($H31+$I31+$J31) -> 0 | Y31: =IF($C31="x",0,MAX(SUM($P31,$R31:$T31)-$X31,0)) -> #VALUE!
